BEGIN:VCALENDAR
VERSION:2.0
PRODID:-//116.202.66.36//NONSGML kigkonsult.se iCalcreator 2.41.92//
CALSCALE:GREGORIAN
METHOD:PUBLISH
UID:36663061-6161-4161-b963-336634363135
X-WR-CALNAME:Events
X-WR-CALDESC:
X-WR-TIMEZONE:Europe/Berlin
BEGIN:VEVENT
UID:31383432-6662-4637-b739-346234653231
DTSTAMP:20260419T152619Z
DTSTART:20251205T130000
DTEND:20251205T160000
LOCATION:Hort
SUMMARY:Nikolausfeier im Hort
END:VEVENT
END:VCALENDAR
